Workbook

Sheet 入力データ
A1: 工事年度 | B1: 令和 | C1: 8 | D1: 年度
A2: 工事名称 | B2: 神奈川県立福祉機構中井やまゆり園スプリンクラーヘッド更新 | D2: 工事
A3: 工事場所 | B3: 足柄上郡中井町境２１８番地
A4: 工事期限 | B4: 9 | C4: 年
B5: 3 | C5: 月
B6: 31 | C6: 日まで
A7: 工事期間 | C7: 日
A8: 発注機関 | B8: 神奈川県立福祉機構

Sheet 表　紙
C6: 令和 | D6: 8 | E6: 年度
D10: 設 計 書
C16: 工事名称 | F16: =+入力データ!B2&"工事" -> 神奈川県立福祉機構中井やまゆり園スプリンクラーヘッド更新工事
C22: 工事場所 | F22: =+入力データ!B3 -> 足柄上郡中井町境２１８番地
F27: 平成 | G27: =+入力データ!B4 -> 9 | H27: 年 | I27: =+入力データ!B5 -> 3 | J27: 月 | K27: =+入力データ!B6 -> 31 | L27: 日 | M27: まで
C28: 工事期間 | E28: 契約締結の日から | J28: 令和９年３月31日まで
B39: =+入力データ!B8 -> 神奈川県立福祉機構

Sheet 概要書
B2: 工 事 概 要 書
B4: １．工事名称 | D4: =+入力データ!B2&"工事" -> 神奈川県立福祉機構中井やまゆり園スプリンクラーヘッド更新工事
B5: ２．工事場所 | D5: =+入力データ!B3 -> 足柄上郡中井町境２１８番地
B6: ３．工事期間 | D6: ="契約締結の日から "&+'表 紙'!J28&"" -> 契約締結の日から 令和９年３月31日まで
B7: ４．工事概要 | D7: 本工事は、園内に設置しているスプリンクラーヘッドを更新するもの
J28: （1）

Sheet 種目別
C2: 設計金額 | E2: 金 | F2: =F3+F4 -> 0 | G2: 円
C3: 工事価格 | E3: 金 | F3: =F11 -> 0 | G3: 円
C4: 消費税等相当額 | E4: 金 | G4: 円
B5: （種目別内訳）
B6: 名 称 | C6: 摘 要 | D6: 数量 | E6: 単位 | F6: 金 額 | G6: 備 考
B7: A 直接工事費 | D7: 1 | E7: 式
B9: B 共通費 | D9: 1 | E9: 式
B11: 合計（工事価格） | F11: =F7+F9 -> 0
B13: Ｃ 消費税等相当額 | F13: =F11*0.1 -> 0
B15: 総合計（設計金額） | F15: =F11+F13 -> 0
G27: （２）

Sheet 科目内訳
B1: （科目内訳書）
B2: 名 称 | C2: 形状寸法 | D2: 数 量 | E2: 単位 | F2: 単 価 | G2: 金 額 | H2: 記 事
B3: Ａ 直接工事費
D4: 1 | E4: 式 | F4: =細目別内訳A!H14 -> 0 | G4: =F4*D4 -> 0
B5: 計 | G5: =SUM(G3:G4) -> 0
B9: B 共通費
D10: 1 | E10: 式 | F10: =細目別内訳A!H25 -> 0 | G10: =D10*F10 -> 0
B11: 計 | G11: =SUM(G10:G10) -> 0
F20: （３）

Sheet 細目別内訳A
B1: （細目別内訳）
A2: 名 称 | D2: 形状・寸法 | E2: 数量 | F2: 単位 | G2: 単価 | H2: 金額 | I2: 備考
A3: A 直接工事費
A4: ア スプリンクラーヘッド 埋込型72℃ | D4: 埋込型72℃ | E4: 1158 | F4: 個 | H4: =G4*E4 -> 0
A5: イ スプリンクラーヘッド 埋込型98℃ 厨房用 | D5: 埋込型98℃ | E5: 21 | F5: 個 | H5: =G5*E5 -> 0
A6: ウ スプリンクラーヘッド 露出上向き型72℃ 講堂用 | D6: 露出上向き型72℃ | E6: 33 | F6: 個 | H6: =G6*E6 -> 0
A7: エ シーリングプレート ガード付 | E7: 1179 | F7: 個 | H7: =G7*E7 -> 0
A8: オ 交換工事費 | E8: 1212 | F8: 箇所 | H8: =G8*E8 -> 0
A9: カ 水抜き水張り費 | E9: 40 | F9: 回 | H9: =G9*E9 -> 0
A10: キ 仮設足場組立解体費 | E10: 1 | F10: 式 | H10: =G10*E10 -> 0
A11: ク 産業廃棄物処理費 | E11: 1 | F11: 式 | H11: =G11*E11 -> 0
A12: ケ 消耗品及び雑材料費 | E12: 1 | F12: 式 | H12: =G12*E12 -> 0
A14: 小計 | H14: =SUM(H4:H12) -> 0
A17: B 共通費 | H17: =G17*E17 -> 0
A18: ア 安全対策費 | E18: 1 | F18: 式 | H18: =G18*E18 -> 0
A19: イ 運搬交通費 | E19: 1 | F19: 式 | H19: =G19*E19 -> 0
A20: ウ 現場経費 | E20: 1 | F20: 式 | H20: =G20*E20 -> 0
A21: エ 現場管理費 | E21: 1 | F21: 式 | H21: =G21*E21 -> 0
A22: オ 諸経費 | E22: 1 | F22: 式 | H22: =G22*E22 -> 0
A23: カ 法定福利費 | E23: 1 | F23: 式 | H23: =G23*E23 -> 0
H24: =G24*E24 -> 0
A25: 小計 | H25: =SUM(H18:H23) -> 0
I26: （４）

Sheet Module1
